BEGIN:VCALENDAR
VERSION:2.0
PRODID:-//台灣潛能講堂佛教學會 - ECPv6.15.12//NONSGML v1.0//EN
CALSCALE:GREGORIAN
METHOD:PUBLISH
X-ORIGINAL-URL:https://tplb.org
X-WR-CALDESC:Events for 台灣潛能講堂佛教學會
REFRESH-INTERVAL;VALUE=DURATION:PT1H
X-Robots-Tag:noindex
X-PUBLISHED-TTL:PT1H
BEGIN:VTIMEZONE
TZID:Asia/Shanghai
BEGIN:STANDARD
TZOFFSETFROM:+0800
TZOFFSETTO:+0800
TZNAME:CST
DTSTART:20200101T000000
END:STANDARD
END:VTIMEZONE
BEGIN:VEVENT
DTSTART;TZID=Asia/Shanghai:20210124T080000
DTEND;TZID=Asia/Shanghai:20210124T180000
DTSTAMP:20260425T083117
CREATED:20210121T121747Z
LAST-MODIFIED:20240228T044659Z
UID:5083-1611475200-1611511200@tplb.org
SUMMARY:慈悲山昧水懺暨甘露施食
DESCRIPTION:法會期間 : 國曆 2021年元月24日 上午8:00開始 \n法會期間設有消災、超薦牌位、歡迎打齋、贊普\n洽詢電話 : (02)8531-5880\n法會地點 : 新北市泰山區泰林路2段349巷10號 \n請大家盡量撥空來拜懺消業障.病障(深入經藏\,得大智慧 )佛前大供\,請大家來給佛祖請客\,親近佛祖
URL:https://tplb.org/event/%e6%85%88%e6%82%b2%e5%b1%b1%e6%98%a7%e6%b0%b4%e6%87%ba%e6%9a%a8%e7%94%98%e9%9c%b2%e6%96%bd%e9%a3%9f/
CATEGORIES:活動日曆
ATTACH;FMTTYPE=image/jpeg:https://tplb.org/wp-content/uploads/2021/01/210124.jpg
END:VEVENT
END:VCALENDAR