BEGIN:VCALENDAR
VERSION:2.0
PRODID:-//台灣潛能講堂佛教學會 - ECPv6.15.12//NONSGML v1.0//EN
CALSCALE:GREGORIAN
METHOD:PUBLISH
X-ORIGINAL-URL:https://tplb.org
X-WR-CALDESC:Events for 台灣潛能講堂佛教學會
REFRESH-INTERVAL;VALUE=DURATION:PT1H
X-Robots-Tag:noindex
X-PUBLISHED-TTL:PT1H
BEGIN:VTIMEZONE
TZID:Asia/Shanghai
BEGIN:STANDARD
TZOFFSETFROM:+0800
TZOFFSETTO:+0800
TZNAME:CST
DTSTART:20190101T000000
END:STANDARD
END:VTIMEZONE
BEGIN:VEVENT
DTSTART;TZID=Asia/Shanghai:20200816T080000
DTEND;TZID=Asia/Shanghai:20200822T170000
DTSTAMP:20260425T185215
CREATED:20200805T074611Z
LAST-MODIFIED:20220804T033614Z
UID:2088-1597564800-1598115600@tplb.org
SUMMARY:護國息災冥陽兩利梁皇齋天焰口大法會
DESCRIPTION:敬愛的善信大德: \n七月報恩超渡大法會，本講堂佛教學會為集虔誠禮懺殊勝之功德，隆重啓建，梁皇寶懺齋天暨焰口。 \n佛光普照，超薦先亡、冤親債主、孝親報恩、解冤釋結、消災解厄、改變命運！ \n七月報恩超度大法會\n※齋天提供消災供燈、祈福轉紅運(現場備有點心結緣)\n※法會功德項目:1.消災祈福 2.超渡祖先 3.冤親債主 4.嬰靈 5.地基主\n※功德金:隨喜(包含全家或個人均可)\n※登記方法:填寫報名表、電話報名 (02)8531-5880\n※法會聯絡人:陳美娥 師姐 0988292437 \n指導單位: 賴秋媚議員、宋明宗議員、泰山區公所\n執行單位: 台灣潛能講堂佛學教會
URL:https://tplb.org/event/%e8%ad%b7%e5%9c%8b%e6%81%af%e7%81%bd%e5%86%a5%e9%99%bd%e5%85%a9%e5%88%a9%e6%a2%81%e7%9a%87%e9%bd%8b%e5%a4%a9%e7%84%b0%e5%8f%a3%e5%a4%a7%e6%b3%95%e6%9c%83/
CATEGORIES:活動日曆
ATTACH;FMTTYPE=image/jpeg:https://tplb.org/wp-content/uploads/2020/08/304844.jpg
END:VEVENT
END:VCALENDAR