BEGIN:VCALENDAR
VERSION:2.0
PRODID:-//台灣潛能講堂佛教學會 - ECPv6.15.12//NONSGML v1.0//EN
CALSCALE:GREGORIAN
METHOD:PUBLISH
X-ORIGINAL-URL:https://tplb.org
X-WR-CALDESC:Events for 台灣潛能講堂佛教學會
REFRESH-INTERVAL;VALUE=DURATION:PT1H
X-Robots-Tag:noindex
X-PUBLISHED-TTL:PT1H
BEGIN:VTIMEZONE
TZID:Asia/Shanghai
BEGIN:STANDARD
TZOFFSETFROM:+0800
TZOFFSETTO:+0800
TZNAME:CST
DTSTART:20190101T000000
END:STANDARD
END:VTIMEZONE
BEGIN:VEVENT
DTSTART;VALUE=DATE:20200726
DTEND;VALUE=DATE:20200727
DTSTAMP:20260425T185621
CREATED:20200720T075352Z
LAST-MODIFIED:20220804T033614Z
UID:1854-1595721600-1595807999@tplb.org
SUMMARY:慈悲三昧水懺暨甘露施食
DESCRIPTION:慈悲三昧水懺暨甘露施食 \n法會日期: 國曆109年7月26日 (農曆109年6月6日) 早上8:00開始\n* 法會期間設有消災、超薦牌位、歡迎打齋、贊普 *\n洽詢電話: (02)8531-5880
URL:https://tplb.org/event/%e6%85%88%e6%82%b2%e4%b8%89%e6%98%a7%e6%b0%b4%e6%87%ba%e6%9a%a8%e7%94%98%e9%9c%b2%e6%96%bd%e9%a3%9f/
LOCATION:新北市泰山區泰林路二段349巷10號
CATEGORIES:活動日曆
ATTACH;FMTTYPE=image/jpeg:https://tplb.org/wp-content/uploads/2020/07/300880.jpg
END:VEVENT
END:VCALENDAR