BEGIN:VCALENDAR
VERSION:2.0
PRODID:-//台灣潛能講堂佛教學會 - ECPv6.15.12//NONSGML v1.0//EN
CALSCALE:GREGORIAN
METHOD:PUBLISH
X-WR-CALNAME:台灣潛能講堂佛教學會
X-ORIGINAL-URL:https://tplb.org
X-WR-CALDESC:Events for 台灣潛能講堂佛教學會
REFRESH-INTERVAL;VALUE=DURATION:PT1H
X-Robots-Tag:noindex
X-PUBLISHED-TTL:PT1H
BEGIN:VTIMEZONE
TZID:Asia/Shanghai
BEGIN:STANDARD
TZOFFSETFROM:+0800
TZOFFSETTO:+0800
TZNAME:CST
DTSTART:20230101T000000
END:STANDARD
END:VTIMEZONE
BEGIN:VEVENT
DTSTART;TZID=Asia/Shanghai:20240316T083000
DTEND;TZID=Asia/Shanghai:20240316T130000
DTSTAMP:20260422T183208
CREATED:20240228T042849Z
LAST-MODIFIED:20240228T045840Z
UID:8414-1710577800-1710594000@tplb.org
SUMMARY:113年一年一度的會員大會於三月16日舉辦
DESCRIPTION:台灣潛能講堂佛教學會菩薩們: \n113年一年一度的會員大會，將於三月16日舉辦。 \n依去年的方式\,費用500元 \n8:30開會，點燈唸心經，午餐。 \n下午邀請榮譽理事長:上達下祥法師教授齋天方法。 \n歡迎台灣潛能講堂佛教學會菩薩們。為了訂餐，歡迎線上或電話報名。
URL:https://tplb.org/event/113%e5%b9%b4%e4%b8%80%e5%b9%b4%e4%b8%80%e5%ba%a6%e7%9a%84%e6%9c%83%e5%93%a1%e5%a4%a7%e6%9c%83%e6%96%bc%e4%b8%89%e6%9c%8816%e6%97%a5%e8%88%89%e8%be%a6/
LOCATION:新北市泰山區泰林路二段349巷10號
CATEGORIES:活動日曆
ATTACH;FMTTYPE=image/jpeg:https://tplb.org/wp-content/uploads/110_silder_05.jpg
END:VEVENT
END:VCALENDAR