BEGIN:VCALENDAR
VERSION:2.0
PRODID:-//台灣潛能講堂佛教學會 - ECPv6.15.12//NONSGML v1.0//EN
CALSCALE:GREGORIAN
METHOD:PUBLISH
X-WR-CALNAME:台灣潛能講堂佛教學會
X-ORIGINAL-URL:https://tplb.org
X-WR-CALDESC:Events for 台灣潛能講堂佛教學會
REFRESH-INTERVAL;VALUE=DURATION:PT1H
X-Robots-Tag:noindex
X-PUBLISHED-TTL:PT1H
BEGIN:VTIMEZONE
TZID:Asia/Shanghai
BEGIN:STANDARD
TZOFFSETFROM:+0800
TZOFFSETTO:+0800
TZNAME:CST
DTSTART:20210101T000000
END:STANDARD
END:VTIMEZONE
BEGIN:VEVENT
DTSTART;TZID=Asia/Shanghai:20220803T083000
DTEND;TZID=Asia/Shanghai:20220807T170000
DTSTAMP:20260423T233859
CREATED:20220802T075629Z
LAST-MODIFIED:20220802T124245Z
UID:7684-1659515400-1659891600@tplb.org
SUMMARY:111年度梁皇寶燦 焰口 法會
DESCRIPTION:敬愛的善信大德:\n七月報恩超渡大法會，潛能講堂佛教學會為集虔誠禮懺殊勝之功德，隆重啟建，梁皇寶懺焰口。\n佛光普照，超薦先亡、冤親債主、孝親報恩、解冤釋結、消災解厄、改變命運！ \n共襄盛舉\n同霑法益 \n時間：國曆8月3日(三)~8月 7日(日)\n農曆7月6日(三)~7月10日(日) \n     梁皇寶懺 早上8:30開始\n     焰    口 下午2:00開始\n法會地址：新北市泰山區泰林路二段349巷10號 \n台灣潛能講堂佛教學會
URL:https://tplb.org/event/111%e5%b9%b4%e5%ba%a6%e6%a2%81%e7%9a%87%e5%af%b6%e7%87%a6-%e7%84%b0%e5%8f%a3-%e6%b3%95%e6%9c%83/
CATEGORIES:活動日曆
ATTACH;FMTTYPE=image/png:https://tplb.org/wp-content/uploads/2022/08/2022法會海報.png
END:VEVENT
END:VCALENDAR