BEGIN:VCALENDAR
VERSION:2.0
PRODID:-//台灣潛能講堂佛教學會 - ECPv6.15.12//NONSGML v1.0//EN
CALSCALE:GREGORIAN
METHOD:PUBLISH
X-WR-CALNAME:台灣潛能講堂佛教學會
X-ORIGINAL-URL:https://tplb.org
X-WR-CALDESC:Events for 台灣潛能講堂佛教學會
REFRESH-INTERVAL;VALUE=DURATION:PT1H
X-Robots-Tag:noindex
X-PUBLISHED-TTL:PT1H
BEGIN:VTIMEZONE
TZID:Asia/Shanghai
BEGIN:STANDARD
TZOFFSETFROM:+0800
TZOFFSETTO:+0800
TZNAME:CST
DTSTART:20200101T000000
END:STANDARD
END:VTIMEZONE
BEGIN:VEVENT
DTSTART;TZID=Asia/Shanghai:20210418T080000
DTEND;TZID=Asia/Shanghai:20210418T180000
DTSTAMP:20260425T014615
CREATED:20210412T104741Z
LAST-MODIFIED:20220802T123759Z
UID:6158-1618732800-1618768800@tplb.org
SUMMARY:三昧水懺祈福超薦法會(為0402太魯閣傷難事故)
DESCRIPTION:
URL:https://tplb.org/event/%e4%b8%89%e6%98%a7%e6%b0%b4%e6%87%ba%e7%a5%88%e7%a6%8f%e8%b6%85%e8%96%a6%e6%b3%95%e6%9c%83%e7%82%ba0402%e5%a4%aa%e9%ad%af%e9%96%a3%e5%82%b7%e9%9b%a3%e4%ba%8b%e6%95%85/
LOCATION:新北市泰山區泰林路二段349巷10號
CATEGORIES:活動日曆
ATTACH;FMTTYPE=image/jpeg:https://tplb.org/wp-content/uploads/2021/04/0418.jpg
END:VEVENT
BEGIN:VEVENT
DTSTART;VALUE=DATE:20210425
DTEND;VALUE=DATE:20210426
DTSTAMP:20260425T014615
CREATED:20210423T132202Z
LAST-MODIFIED:20220804T032429Z
UID:6297-1619308800-1619395199@tplb.org
SUMMARY:慈悲山昧水懺暨佛誕浴佛法會
DESCRIPTION:
URL:https://tplb.org/event/%e6%85%88%e6%82%b2%e5%b1%b1%e6%98%a7%e6%b0%b4%e6%87%ba%e6%9a%a8%e4%bd%9b%e8%aa%95%e6%b5%b4%e4%bd%9b%e6%b3%95%e6%9c%83/
LOCATION:新北市泰山區泰林路二段349巷10號
CATEGORIES:活動日曆
ATTACH;FMTTYPE=image/jpeg:https://tplb.org/wp-content/uploads/2021/04/0425.jpg
END:VEVENT
END:VCALENDAR