BEGIN:VCALENDAR
VERSION:2.0
PRODID:-//台灣潛能講堂佛教學會 - ECPv6.15.12//NONSGML v1.0//EN
CALSCALE:GREGORIAN
METHOD:PUBLISH
X-ORIGINAL-URL:https://tplb.org
X-WR-CALDESC:Events for 台灣潛能講堂佛教學會
REFRESH-INTERVAL;VALUE=DURATION:PT1H
X-Robots-Tag:noindex
X-PUBLISHED-TTL:PT1H
BEGIN:VTIMEZONE
TZID:Asia/Shanghai
BEGIN:STANDARD
TZOFFSETFROM:+0800
TZOFFSETTO:+0800
TZNAME:CST
DTSTART:20190101T000000
END:STANDARD
END:VTIMEZONE
BEGIN:VEVENT
DTSTART;TZID=Asia/Shanghai:20201213T090000
DTEND;TZID=Asia/Shanghai:20201213T120000
DTSTAMP:20260425T082712
CREATED:20201207T124923Z
LAST-MODIFIED:20220804T032504Z
UID:4832-1607850000-1607860800@tplb.org
SUMMARY:台灣潛能講堂佛教學會 第一屆第一次會員大會
DESCRIPTION:
URL:https://tplb.org/event/%e5%8f%b0%e7%81%a3%e6%bd%9b%e8%83%bd%e8%ac%9b%e5%a0%82%e4%bd%9b%e6%95%99%e5%ad%b8%e6%9c%83-%e7%ac%ac%e4%b8%80%e5%b1%86%e7%ac%ac%e4%b8%80%e6%ac%a1%e6%9c%83%e5%93%a1%e5%a4%a7%e6%9c%83/
LOCATION:新北市泰山區泰林路二段349巷10號
CATEGORIES:活動日曆
ATTACH;FMTTYPE=image/jpeg:https://tplb.org/wp-content/uploads/2020/12/1130.jpg
END:VEVENT
BEGIN:VEVENT
DTSTART;VALUE=DATE:20201214
DTEND;VALUE=DATE:20201215
DTSTAMP:20260425T082712
CREATED:20201208T123217Z
LAST-MODIFIED:20220804T032456Z
UID:4840-1607904000-1607990399@tplb.org
SUMMARY:供佛齋天暨禮拜慈悲藥師寶懺
DESCRIPTION:
URL:https://tplb.org/event/%e4%be%9b%e4%bd%9b%e9%bd%8b%e5%a4%a9%e6%9a%a8%e7%a6%ae%e6%8b%9c%e6%85%88%e6%82%b2%e8%97%a5%e5%b8%ab%e5%af%b6%e6%87%ba/
LOCATION:新北市泰山區泰林路二段349巷10號
CATEGORIES:活動日曆
ATTACH;FMTTYPE=image/jpeg:https://tplb.org/wp-content/uploads/2020/12/1214.jpg
END:VEVENT
BEGIN:VEVENT
DTSTART;TZID=Asia/Shanghai:20201227T080000
DTEND;TZID=Asia/Shanghai:20201227T170000
DTSTAMP:20260425T082712
CREATED:20201225T010633Z
LAST-MODIFIED:20220804T032449Z
UID:4992-1609056000-1609088400@tplb.org
SUMMARY:慈悲山昧水懺
DESCRIPTION:法會期間 : 國曆 109年12月27日 (農曆109年11月13日) 上午8:00開始 \n法會期間設有消災、超薦牌位、歡迎打齋、贊普\n洽詢電話 : (02)8531-5880\n法會地點 : 新北市泰山區泰林路2段349巷10號
URL:https://tplb.org/event/%e6%85%88%e6%82%b2%e5%b1%b1%e6%98%a7%e6%b0%b4%e6%87%ba/
LOCATION:新北市泰山區泰林路二段349巷10號
CATEGORIES:活動日曆
ATTACH;FMTTYPE=image/jpeg:https://tplb.org/wp-content/uploads/2020/12/1227.jpg
END:VEVENT
END:VCALENDAR