BEGIN:VCALENDAR
VERSION:2.0
PRODID:-//台灣潛能講堂佛教學會 - ECPv6.15.12//NONSGML v1.0//EN
CALSCALE:GREGORIAN
METHOD:PUBLISH
X-WR-CALNAME:台灣潛能講堂佛教學會
X-ORIGINAL-URL:https://tplb.org
X-WR-CALDESC:Events for 台灣潛能講堂佛教學會
REFRESH-INTERVAL;VALUE=DURATION:PT1H
X-Robots-Tag:noindex
X-PUBLISHED-TTL:PT1H
BEGIN:VTIMEZONE
TZID:Asia/Shanghai
BEGIN:STANDARD
TZOFFSETFROM:+0800
TZOFFSETTO:+0800
TZNAME:CST
DTSTART:20190101T000000
END:STANDARD
END:VTIMEZONE
BEGIN:VEVENT
DTSTART;TZID=Asia/Shanghai:20201108T140000
DTEND;TZID=Asia/Shanghai:20201108T160000
DTSTAMP:20260425T101755
CREATED:20201030T091144Z
LAST-MODIFIED:20220804T032633Z
UID:3875-1604844000-1604851200@tplb.org
SUMMARY:生活漫談
DESCRIPTION:主題一:\n身障表演藝術\n單元:音樂分享會~林信宏老師(回憶系歌手) \n主題二:\n我的命運改變了\n主講人: 上 融 下 音 師父
URL:https://tplb.org/event/%e7%94%9f%e6%b4%bb%e6%bc%ab%e8%ab%87-2/
LOCATION:新北市泰山區泰林路二段349巷10號
CATEGORIES:活動日曆
ATTACH;FMTTYPE=image/jpeg:https://tplb.org/wp-content/uploads/2020/10/362162.jpg
END:VEVENT
BEGIN:VEVENT
DTSTART;TZID=Asia/Shanghai:20201115T080000
DTEND;TZID=Asia/Shanghai:20201115T120000
DTSTAMP:20260425T101755
CREATED:20201109T122011Z
LAST-MODIFIED:20220804T032550Z
UID:3920-1605427200-1605441600@tplb.org
SUMMARY:禮拜慈悲藥師寶懺
DESCRIPTION:
URL:https://tplb.org/event/%e7%a6%ae%e6%8b%9c%e6%85%88%e6%82%b2%e8%97%a5%e5%b8%ab%e5%af%b6%e6%87%ba-2/
LOCATION:新北市泰山區泰林路二段349巷10號
CATEGORIES:活動日曆
ATTACH;FMTTYPE=image/jpeg:https://tplb.org/wp-content/uploads/2020/11/381039.jpg
END:VEVENT
BEGIN:VEVENT
DTSTART;VALUE=DATE:20201122
DTEND;VALUE=DATE:20201123
DTSTAMP:20260425T101755
CREATED:20201118T100955Z
LAST-MODIFIED:20220804T032524Z
UID:4241-1606003200-1606089599@tplb.org
SUMMARY:慈悲三昧水懺
DESCRIPTION:
URL:https://tplb.org/event/%e6%85%88%e6%82%b2%e4%b8%89%e6%98%a7%e6%b0%b4%e6%87%ba-2/
LOCATION:新北市泰山區泰林路二段349巷10號
CATEGORIES:活動日曆
ATTACH;FMTTYPE=image/jpeg:https://tplb.org/wp-content/uploads/2020/11/1122.jpg
END:VEVENT
BEGIN:VEVENT
DTSTART;TZID=Asia/Shanghai:20201129T090000
DTEND;TZID=Asia/Shanghai:20201129T170000
DTSTAMP:20260425T101755
CREATED:20201124T125522Z
LAST-MODIFIED:20220804T032513Z
UID:4302-1606640400-1606669200@tplb.org
SUMMARY:禮拜慈悲金剛寶懺
DESCRIPTION:
URL:https://tplb.org/event/%e7%a6%ae%e6%8b%9c%e6%85%88%e6%82%b2%e9%87%91%e5%89%9b%e5%af%b6%e6%87%ba-2/
LOCATION:新北市泰山區泰林路二段349巷10號
CATEGORIES:活動日曆
ATTACH;FMTTYPE=image/jpeg:https://tplb.org/wp-content/uploads/2020/11/1129.jpg
END:VEVENT
END:VCALENDAR