BEGIN:VCALENDAR
VERSION:2.0
PRODID:-//台灣潛能講堂佛教學會 - ECPv6.15.12//NONSGML v1.0//EN
CALSCALE:GREGORIAN
METHOD:PUBLISH
X-WR-CALNAME:台灣潛能講堂佛教學會
X-ORIGINAL-URL:https://tplb.org
X-WR-CALDESC:Events for 台灣潛能講堂佛教學會
REFRESH-INTERVAL;VALUE=DURATION:PT1H
X-Robots-Tag:noindex
X-PUBLISHED-TTL:PT1H
BEGIN:VTIMEZONE
TZID:Asia/Shanghai
BEGIN:STANDARD
TZOFFSETFROM:+0800
TZOFFSETTO:+0800
TZNAME:CST
DTSTART:20190101T000000
END:STANDARD
END:VTIMEZONE
BEGIN:VEVENT
DTSTART;TZID=Asia/Shanghai:20201017T090000
DTEND;TZID=Asia/Shanghai:20201017T170000
DTSTAMP:20260425T120237
CREATED:20201012T074920Z
LAST-MODIFIED:20220804T033614Z
UID:3766-1602925200-1602954000@tplb.org
SUMMARY:禮拜慈悲藥師寶懺
DESCRIPTION:
URL:https://tplb.org/event/%e7%a6%ae%e6%8b%9c%e6%85%88%e6%82%b2%e8%97%a5%e5%b8%ab%e5%af%b6%e6%87%ba/
CATEGORIES:活動日曆
ATTACH;FMTTYPE=image/jpeg:https://tplb.org/wp-content/uploads/2020/10/301712.jpg
END:VEVENT
BEGIN:VEVENT
DTSTART;VALUE=DATE:20201018
DTEND;VALUE=DATE:20201019
DTSTAMP:20260425T120237
CREATED:20201012T075118Z
LAST-MODIFIED:20220804T033614Z
UID:3770-1602979200-1603065599@tplb.org
SUMMARY:禮拜慈悲三昧水懺
DESCRIPTION:禮拜慈悲三昧水懺 \n法會時間 : 國曆 109年10月18日 / 農曆 109年9月2日 上午8:00開始 \n法會期間設有消災、超薦牌位、歡迎打齋、贊普\n洽詢電話: (02)8531-5880\n法會地點: 新北市泰山區泰林路2段349巷10號
URL:https://tplb.org/event/%e7%a6%ae%e6%8b%9c%e6%85%88%e6%82%b2%e4%b8%89%e6%98%a7%e6%b0%b4%e6%87%ba-2/
CATEGORIES:活動日曆
ATTACH;FMTTYPE=image/jpeg:https://tplb.org/wp-content/uploads/2020/10/301712.jpg
END:VEVENT
BEGIN:VEVENT
DTSTART;VALUE=DATE:20201031
DTEND;VALUE=DATE:20201101
DTSTAMP:20260425T120237
CREATED:20201026T101519Z
LAST-MODIFIED:20220804T033614Z
UID:3866-1604102400-1604188799@tplb.org
SUMMARY:禮拜慈悲金剛寶懺
DESCRIPTION:109年10月31日 (農曆九月十五)\n上午9:00開始\n禮拜慈悲金剛寶懺 \n歡迎大家共襄盛舉\n同霑法益\n厚植菩提
URL:https://tplb.org/event/%e7%a6%ae%e6%8b%9c%e6%85%88%e6%82%b2%e9%87%91%e5%89%9b%e5%af%b6%e6%87%ba/
CATEGORIES:活動日曆
ATTACH;FMTTYPE=image/jpeg:https://tplb.org/wp-content/uploads/2020/10/354093.jpg
END:VEVENT
END:VCALENDAR